BEGIN:VCALENDAR
VERSION:2.0
PRODID:-//MN BAR BINGO - ECPv6.15.20//NONSGML v1.0//EN
CALSCALE:GREGORIAN
METHOD:PUBLISH
X-ORIGINAL-URL:https://mnbarbingo.com
X-WR-CALDESC:Events for MN BAR BINGO
REFRESH-INTERVAL;VALUE=DURATION:PT1H
X-Robots-Tag:noindex
X-PUBLISHED-TTL:PT1H
BEGIN:VTIMEZONE
TZID:America/Chicago
BEGIN:DAYLIGHT
TZOFFSETFROM:-0600
TZOFFSETTO:-0500
TZNAME:CDT
DTSTART:20240310T080000
END:DAYLIGHT
BEGIN:STANDARD
TZOFFSETFROM:-0500
TZOFFSETTO:-0600
TZNAME:CST
DTSTART:20241103T070000
END:STANDARD
BEGIN:DAYLIGHT
TZOFFSETFROM:-0600
TZOFFSETTO:-0500
TZNAME:CDT
DTSTART:20250309T080000
END:DAYLIGHT
BEGIN:STANDARD
TZOFFSETFROM:-0500
TZOFFSETTO:-0600
TZNAME:CST
DTSTART:20251102T070000
END:STANDARD
BEGIN:DAYLIGHT
TZOFFSETFROM:-0600
TZOFFSETTO:-0500
TZNAME:CDT
DTSTART:20260308T080000
END:DAYLIGHT
BEGIN:STANDARD
TZOFFSETFROM:-0500
TZOFFSETTO:-0600
TZNAME:CST
DTSTART:20261101T070000
END:STANDARD
END:VTIMEZONE
BEGIN:VEVENT
DTSTART;TZID=America/Chicago:20251108T123000
DTEND;TZID=America/Chicago:20251108T153000
DTSTAMP:20260419T072231
CREATED:20251021T021811Z
LAST-MODIFIED:20251021T022234Z
UID:11477-1762605000-1762615800@mnbarbingo.com
SUMMARY:Big Bucks Doe-on-the-Go Mystery Bingo
DESCRIPTION:Doors open at 9am\nPacket sales open at 12:30pm \nBingo starts at 1:00pm\n\n  \n🦌💰 BIG BUCKS / DOE-ON-THE-GO BINGO! 💰🦌 \nJoin us Saturday\, Nov 8th at 1pm for Mystery Bingo! It’s open season on some big wins! \n🔮YOU get to choose your mystery prize!! \n💰 Prizes range $99–$500! \n🎯 $1\,000 must-go coverall! \n🎟️ Door prizes + raffle giveaways! \n🍺 Free drink for anyone in camo or blaze orange! \n💸 $30 for all games; additional sheets will be sold between games. \nSkip the deer stand — the real hunt’s happening at the Chisago Lakes Grill!! This hunt’s got no tag limit — just laughs\, luck\, and a few bucks to take home! \nGet there early for best seating! Packet sales open at 12:30. \nGet ready to aim\, daub\, and WIN! \nPresented by Lakes Center for Youth and Families\nCharitable Gambling License #34511-003
URL:https://mnbarbingo.com/event/big-bucks-doe-on-the-go-mystery-bingo/
LOCATION:Chisago Lakes Grill – Lindstrom\, 12975 292nd St\, Lindstrom\, MN\, 55045\, United States
CATEGORIES:Mega Bingo
ATTACH;FMTTYPE=image/jpeg:https://mnbarbingo.com/wp-content/uploads/2025/10/bigbucksbingo.jpg
ORGANIZER;CN="Lakes Center for Youth and Families":MAILTO:kellie.larson@lc4yf.org
END:VEVENT
BEGIN:VEVENT
DTSTART;TZID=America/Chicago:20251108T140000
DTEND;TZID=America/Chicago:20251108T170000
DTSTAMP:20260419T072231
CREATED:20251104T041353Z
LAST-MODIFIED:20251104T041353Z
UID:11537-1762610400-1762621200@mnbarbingo.com
SUMMARY:Rusty Spoke Purse Bingo
DESCRIPTION:Doors open at 8am\nBingo starts at 2pm\nOver $1200 in prizes
URL:https://mnbarbingo.com/event/rusty-spoke-purse-bingo/
LOCATION:Rusty Spoke\, 329 Main St W\, New Prague\, MN\, 56071\, United States
CATEGORIES:Designer Handbag Bingo
ATTACH;FMTTYPE=image/jpeg:https://mnbarbingo.com/wp-content/uploads/2025/11/rusty-spoke.jpg
END:VEVENT
BEGIN:VEVENT
DTSTART;TZID=America/Chicago:20251108T180000
DTEND;TZID=America/Chicago:20251108T200000
DTSTAMP:20260419T072231
CREATED:20250902T204948Z
LAST-MODIFIED:20250902T204948Z
UID:11230-1762624800-1762632000@mnbarbingo.com
SUMMARY:Designer Purse Bingo - Blue Moon Bar
DESCRIPTION:Bingo starts at 6pm\n10 games\n$30
URL:https://mnbarbingo.com/event/designer-purse-bingo-blue-moon-bar/
LOCATION:Blue Moon Bar\, 300 S Webster St\, Kasota\, MN\, 56050\, United States
CATEGORIES:Designer Handbag Bingo
ATTACH;FMTTYPE=image/png:https://mnbarbingo.com/wp-content/uploads/2024/04/handbag-bingo-e1716321226665.png
END:VEVENT
BEGIN:VEVENT
DTSTART;TZID=America/Chicago:20251113T183000
DTEND;TZID=America/Chicago:20251113T210000
DTSTAMP:20260419T072231
CREATED:20240912T135922Z
LAST-MODIFIED:20251021T021423Z
UID:9647-1763058600-1763067600@mnbarbingo.com
SUMMARY:Scholarship Bingo Bonanza
DESCRIPTION:Doors Open 6:30pm – Bingo starts at 7pm\n$20 for 10 games\nNo reservations\n50/50 raffle\nPrize Wheel\nhttps://www.rodwt.org
URL:https://mnbarbingo.com/event/scholarship-bingo-bonanza/
LOCATION:21st Century Bank Event Center\, 12716 Main St\, Rogers\, MN\, 55374\, United States
CATEGORIES:Mega Bingo
ATTACH;FMTTYPE=image/jpeg:https://mnbarbingo.com/wp-content/uploads/2024/09/scholarship-bingo.jpg
ORGANIZER;CN="Rogers Otsego Dayton Women of Today":MAILTO:rogersotsegodaytonWT@mnwt.org
END:VEVENT
BEGIN:VEVENT
DTSTART;TZID=America/Chicago:20251119T183000
DTEND;TZID=America/Chicago:20251119T203000
DTSTAMP:20260419T072231
CREATED:20240522T073547Z
LAST-MODIFIED:20251104T213550Z
UID:9256-1763577000-1763584200@mnbarbingo.com
SUMMARY:Designer Handbag Bingo - Adagio's Pizza Factory
DESCRIPTION:Every 3rd Wednesday of the month\n\nBingo starts at 6:30pm.\nReservations accepted\, but not required.\n\n651-631-8430
URL:https://mnbarbingo.com/event/designerhandbagbingo-adagios/
LOCATION:Adagio’s Pizza Factory – New Brighton\, 2052 Silver Lake Rd NW\, New Brighton\, MN\, 55112\, United States
CATEGORIES:Designer Handbag Bingo
ATTACH;FMTTYPE=image/png:https://mnbarbingo.com/wp-content/uploads/2024/04/handbag-bingo-e1716321226665.png
END:VEVENT
BEGIN:VEVENT
DTSTART;TZID=America/Chicago:20251120T190000
DTEND;TZID=America/Chicago:20251120T213000
DTSTAMP:20260419T072231
CREATED:20241114T032514Z
LAST-MODIFIED:20251029T013232Z
UID:9887-1763665200-1763674200@mnbarbingo.com
SUMMARY:Purse and Power Tool Bingo
DESCRIPTION:WIN BIG with luxury prizes at Bald Man Brewing\, hosted by the Eagan Lions Club. \nPacket – 6 Face Card of all 8 Games = $24. Additional packet to increase your odds of winning – 3 Face Card of all 8 Games = $10 \nMore Fun – we will play 3 Ball Call for a chance to win BIG Cash Prizes = $200/$400/$500! \nIn addition to Bingo we will have raffles for Bald Man merchandise\, Eagan Lion merchandise\, designer wallets and more. Receive 1 raffle ticket with the purchase of the $24 packet. Receive additional raffle tickets for every $20 spent on 3 Ball Call. \nBring your friends and family for a night of fun\, fantastic prizes and community spirit! 100% of the proceeds from this event are donated to Eagan Lion’s causes. Check out our website at www.eaganlions.com to see organizations that we support. Contact us to join our fun team and become a member of the Eagan Lions.
URL:https://mnbarbingo.com/event/purse-and-power-tool-bingo/
LOCATION:Bald Man Brewing\, 2020 Silver Bell Rd #28\, Eagan\, MN\, 55122\, United States
CATEGORIES:Designer Handbag Bingo
ATTACH;FMTTYPE=image/png:https://mnbarbingo.com/wp-content/uploads/2024/11/baldmanbingoevent.png
END:VEVENT
BEGIN:VEVENT
DTSTART;TZID=America/Chicago:20251127T183000
DTEND;TZID=America/Chicago:20251127T203000
DTSTAMP:20260419T072231
CREATED:20251126T022751Z
LAST-MODIFIED:20251126T023011Z
UID:11630-1764268200-1764275400@mnbarbingo.com
SUMMARY:Thanksgiving Day Bingo - White Bear Lake
DESCRIPTION:2 $1000 Coveralls!\n6:30pm start
URL:https://mnbarbingo.com/event/thanksgiving-day-bingo-white-bear-lake/
LOCATION:Little Village Pub\, 2670 Co Rd E East\, White Bear Lake\, MN\, 55110\, United States
CATEGORIES:Mega Bingo
ATTACH;FMTTYPE=image/png:https://mnbarbingo.com/wp-content/uploads/2024/08/MNBB-Home-Special-Events-e1731554848187.png
END:VEVENT
BEGIN:VEVENT
DTSTART;TZID=America/Chicago:20251127T183000
DTEND;TZID=America/Chicago:20251127T203000
DTSTAMP:20260419T072231
CREATED:20251126T023538Z
LAST-MODIFIED:20251126T023538Z
UID:11636-1764268200-1764275400@mnbarbingo.com
SUMMARY:Thanksgiving Day Bingo - Coon Rapids
DESCRIPTION:Bar opens 5pm\nBingo starts 6:30pm\nAll Bingo payouts $150
URL:https://mnbarbingo.com/event/thanksgiving-day-bingo-coon-rapids/
LOCATION:Shortstop Coon Rapids\, 421 Northdale Blvd NW\, Coon Rapids\, MN\, 55448\, United States
CATEGORIES:Mega Bingo
ATTACH;FMTTYPE=image/png:https://mnbarbingo.com/wp-content/uploads/2024/08/MNBB-Home-Special-Events-e1731554848187.png
END:VEVENT
END:VCALENDAR