BEGIN:VCALENDAR
VERSION:2.0
PRODID:-//MN BAR BINGO - ECPv6.15.20//NONSGML v1.0//EN
CALSCALE:GREGORIAN
METHOD:PUBLISH
X-ORIGINAL-URL:https://mnbarbingo.com
X-WR-CALDESC:Events for MN BAR BINGO
REFRESH-INTERVAL;VALUE=DURATION:PT1H
X-Robots-Tag:noindex
X-PUBLISHED-TTL:PT1H
BEGIN:VTIMEZONE
TZID:America/Chicago
BEGIN:DAYLIGHT
TZOFFSETFROM:-0600
TZOFFSETTO:-0500
TZNAME:CDT
DTSTART:20240310T080000
END:DAYLIGHT
BEGIN:STANDARD
TZOFFSETFROM:-0500
TZOFFSETTO:-0600
TZNAME:CST
DTSTART:20241103T070000
END:STANDARD
BEGIN:DAYLIGHT
TZOFFSETFROM:-0600
TZOFFSETTO:-0500
TZNAME:CDT
DTSTART:20250309T080000
END:DAYLIGHT
BEGIN:STANDARD
TZOFFSETFROM:-0500
TZOFFSETTO:-0600
TZNAME:CST
DTSTART:20251102T070000
END:STANDARD
BEGIN:DAYLIGHT
TZOFFSETFROM:-0600
TZOFFSETTO:-0500
TZNAME:CDT
DTSTART:20260308T080000
END:DAYLIGHT
BEGIN:STANDARD
TZOFFSETFROM:-0500
TZOFFSETTO:-0600
TZNAME:CST
DTSTART:20261101T070000
END:STANDARD
END:VTIMEZONE
BEGIN:VEVENT
DTSTART;TZID=America/Chicago:20250710T183000
DTEND;TZID=America/Chicago:20250710T203000
DTSTAMP:20260421T143715
CREATED:20250626T215714Z
LAST-MODIFIED:20250626T215714Z
UID:10841-1752172200-1752179400@mnbarbingo.com
SUMMARY:Mega Yeti Bingo
DESCRIPTION:Doors Open 5pm\nBingo starts 6:30pm\nUnder the Tent!\n$50 – $65 packages\nWin soft and hard-sided coolers\, backpack coolers\, outdoor gear\, etc!
URL:https://mnbarbingo.com/event/mega-yeti-bingo/
LOCATION:The Stanchion – Hamel\, 20037 County Hwy 10\, Hamel\, MN\, 55340\, United States
CATEGORIES:Mega Bingo
ATTACH;FMTTYPE=application/pdf:https://mnbarbingo.com/wp-content/uploads/2025/06/Mega-Yeti-Bingo-2025.pdf
END:VEVENT
BEGIN:VEVENT
DTSTART;TZID=America/Chicago:20250715T180000
DTEND;TZID=America/Chicago:20250715T200000
DTSTAMP:20260421T143715
CREATED:20250714T011912Z
LAST-MODIFIED:20250714T011912Z
UID:10958-1752602400-1752609600@mnbarbingo.com
SUMMARY:Designer Purse Bingo at Vic's
DESCRIPTION:Tickets for the event $20 and $40 for a bingo packet.\n10 games
URL:https://mnbarbingo.com/event/designer-purse-bingo-at-vics/
LOCATION:Vic’s Bar & Grill\, 1608 Main Ave SE\, Moorhead\, MN\, 56560\, United States
CATEGORIES:Designer Handbag Bingo
ATTACH;FMTTYPE=image/png:https://mnbarbingo.com/wp-content/uploads/2024/04/handbag-bingo-e1716321226665.png
END:VEVENT
BEGIN:VEVENT
DTSTART;TZID=America/Chicago:20250715T183000
DTEND;TZID=America/Chicago:20250715T210000
DTSTAMP:20260421T143715
CREATED:20250623T033026Z
LAST-MODIFIED:20250623T033026Z
UID:10804-1752604200-1752613200@mnbarbingo.com
SUMMARY:Purse / Yeti Bingo Willy McCoys
DESCRIPTION:Bingo starts at 6:30pm\nStep-Down Coverall starting at $1000 at 56 #’s or less\n$25 packets. Additional packets at $5 each\n3rd Tuesday every month 
URL:https://mnbarbingo.com/event/purse-yeti-bingo-willy-mccoys/
LOCATION:Willy McCoys Champlin\, 12450 Business Park Blvd N\, Champlin\, MN\, 55316\, United States
CATEGORIES:Designer Handbag Bingo
ATTACH;FMTTYPE=image/png:https://mnbarbingo.com/wp-content/uploads/2024/04/handbag-bingo-e1716321226665.png
END:VEVENT
BEGIN:VEVENT
DTSTART;TZID=America/Chicago:20250722T183000
DTEND;TZID=America/Chicago:20250722T203000
DTSTAMP:20260421T143715
CREATED:20250714T010938Z
LAST-MODIFIED:20250714T010938Z
UID:10955-1753209000-1753216200@mnbarbingo.com
SUMMARY:Hot Summer Nights / Leprechaun Days
DESCRIPTION:2 Jackpots paying out up to $1199\n$14 packets with $2 coverall sheets
URL:https://mnbarbingo.com/event/hot-summer-nights-leprechaun-days/
LOCATION:Celt’s Irish Pub Rosemount\, 14506 S Robert Trail\, Rosemount\, MN\, 55068\, United States
CATEGORIES:Mega Bingo
ATTACH;FMTTYPE=image/png:https://mnbarbingo.com/wp-content/uploads/2024/08/MNBB-Home-Special-Events-e1731554848187.png
END:VEVENT
END:VCALENDAR