BEGIN:VCALENDAR
VERSION:2.0
PRODID:-//MN BAR BINGO - ECPv6.15.20//NONSGML v1.0//EN
CALSCALE:GREGORIAN
METHOD:PUBLISH
X-ORIGINAL-URL:https://mnbarbingo.com
X-WR-CALDESC:Events for MN BAR BINGO
REFRESH-INTERVAL;VALUE=DURATION:PT1H
X-Robots-Tag:noindex
X-PUBLISHED-TTL:PT1H
BEGIN:VTIMEZONE
TZID:America/Chicago
BEGIN:DAYLIGHT
TZOFFSETFROM:-0600
TZOFFSETTO:-0500
TZNAME:CDT
DTSTART:20240310T080000
END:DAYLIGHT
BEGIN:STANDARD
TZOFFSETFROM:-0500
TZOFFSETTO:-0600
TZNAME:CST
DTSTART:20241103T070000
END:STANDARD
BEGIN:DAYLIGHT
TZOFFSETFROM:-0600
TZOFFSETTO:-0500
TZNAME:CDT
DTSTART:20250309T080000
END:DAYLIGHT
BEGIN:STANDARD
TZOFFSETFROM:-0500
TZOFFSETTO:-0600
TZNAME:CST
DTSTART:20251102T070000
END:STANDARD
BEGIN:DAYLIGHT
TZOFFSETFROM:-0600
TZOFFSETTO:-0500
TZNAME:CDT
DTSTART:20260308T080000
END:DAYLIGHT
BEGIN:STANDARD
TZOFFSETFROM:-0500
TZOFFSETTO:-0600
TZNAME:CST
DTSTART:20261101T070000
END:STANDARD
END:VTIMEZONE
BEGIN:VEVENT
DTSTART;TZID=America/Chicago:20250511T140000
DTEND;TZID=America/Chicago:20250511T160000
DTSTAMP:20260421T174714
CREATED:20250430T025306Z
LAST-MODIFIED:20250430T025306Z
UID:10556-1746972000-1746979200@mnbarbingo.com
SUMMARY:Mother's Day Designer Purse Bingo
DESCRIPTION:2pm\nPackages are $30 for ten games. \nEach player will receive six faces per game. \nWinner of each game will have a choice of a designer purse. \nWe will be mixing in some Stanley and Yeti’s for some extra fun. \nBrunch and drink specials
URL:https://mnbarbingo.com/event/mothers-day-designer-purse-bingo/
LOCATION:Trove Brewing\, 1719 COUNTY RD 42 W\, BURNSVILLE\, MN\, 55306\, United States
CATEGORIES:Designer Handbag Bingo
ATTACH;FMTTYPE=image/png:https://mnbarbingo.com/wp-content/uploads/2024/04/handbag-bingo-e1716321226665.png
END:VEVENT
BEGIN:VEVENT
DTSTART;TZID=America/Chicago:20250518T120000
DTEND;TZID=America/Chicago:20250518T150000
DTSTAMP:20260421T174714
CREATED:20250430T024345Z
LAST-MODIFIED:20250430T024345Z
UID:10552-1747569600-1747580400@mnbarbingo.com
SUMMARY:Purse Bingo at Patty Wagon
DESCRIPTION:Restaurant opens at 8am. Ticket sales 11am. Bingo starts at 12pm.\nWin purses and cash!\n$15 Bottomless Mimosas.
URL:https://mnbarbingo.com/event/purse-bingo-at-patty-wagon/
LOCATION:Patty Wagon\, 6042 Nicollet AVE\, Minneapolis\, MN\, 55419\, United States
CATEGORIES:Designer Handbag Bingo
ATTACH;FMTTYPE=image/jpeg:https://mnbarbingo.com/wp-content/uploads/2025/04/pattywagon-purse-bingo.jpeg
END:VEVENT
END:VCALENDAR