BEGIN:VCALENDAR
VERSION:2.0
PRODID:-//MN BAR BINGO - ECPv6.15.20//NONSGML v1.0//EN
CALSCALE:GREGORIAN
METHOD:PUBLISH
X-WR-CALNAME:MN BAR BINGO
X-ORIGINAL-URL:https://mnbarbingo.com
X-WR-CALDESC:Events for MN BAR BINGO
REFRESH-INTERVAL;VALUE=DURATION:PT1H
X-Robots-Tag:noindex
X-PUBLISHED-TTL:PT1H
BEGIN:VTIMEZONE
TZID:America/Chicago
BEGIN:DAYLIGHT
TZOFFSETFROM:-0600
TZOFFSETTO:-0500
TZNAME:CDT
DTSTART:20240310T080000
END:DAYLIGHT
BEGIN:STANDARD
TZOFFSETFROM:-0500
TZOFFSETTO:-0600
TZNAME:CST
DTSTART:20241103T070000
END:STANDARD
BEGIN:DAYLIGHT
TZOFFSETFROM:-0600
TZOFFSETTO:-0500
TZNAME:CDT
DTSTART:20250309T080000
END:DAYLIGHT
BEGIN:STANDARD
TZOFFSETFROM:-0500
TZOFFSETTO:-0600
TZNAME:CST
DTSTART:20251102T070000
END:STANDARD
BEGIN:DAYLIGHT
TZOFFSETFROM:-0600
TZOFFSETTO:-0500
TZNAME:CDT
DTSTART:20260308T080000
END:DAYLIGHT
BEGIN:STANDARD
TZOFFSETFROM:-0500
TZOFFSETTO:-0600
TZNAME:CST
DTSTART:20261101T070000
END:STANDARD
BEGIN:DAYLIGHT
TZOFFSETFROM:-0600
TZOFFSETTO:-0500
TZNAME:CDT
DTSTART:20270314T080000
END:DAYLIGHT
BEGIN:STANDARD
TZOFFSETFROM:-0500
TZOFFSETTO:-0600
TZNAME:CST
DTSTART:20271107T070000
END:STANDARD
END:VTIMEZONE
BEGIN:VEVENT
DTSTART;TZID=America/Chicago:20260412T160000
DTEND;TZID=America/Chicago:20260412T180000
DTSTAMP:20260421T032050
CREATED:20241108T142557Z
LAST-MODIFIED:20260404T150731Z
UID:9863-1776009600-1776016800@mnbarbingo.com
SUMMARY:Designer Purse / Yeti Bingo - Broadway Pizza
DESCRIPTION:Every 2nd Sunday of the month!\n\nBingo starts at 4pm.\nDesigner Purse/Yeti Bingo.\n$30-$45 packages for 11 games.\nWin Coach\, Kate Spade or Michael Kors and Yeti.  Choose purse\, cash or both.\nMust Go coverall up to $1\,000.
URL:https://mnbarbingo.com/event/designer-purse-yeti-bingo-broadway-pizza/
LOCATION:Broadway Pizza Maple Grove\, 7890 Main St\, Maple Grove\, MN\, 55369\, United States
CATEGORIES:Designer Handbag Bingo
ATTACH;FMTTYPE=image/png:https://mnbarbingo.com/wp-content/uploads/2024/04/handbag-bingo-e1716321226665.png
END:VEVENT
BEGIN:VEVENT
DTSTART;TZID=America/Chicago:20260411T130000
DTEND;TZID=America/Chicago:20260411T160000
DTSTAMP:20260421T032050
CREATED:20241108T142832Z
LAST-MODIFIED:20260404T151106Z
UID:9865-1775912400-1775923200@mnbarbingo.com
SUMMARY:Designer Purse Bingo - Detour 19
DESCRIPTION:Every 2nd Saturday of the month!\n\nBingo starts at 1pm.\nDesigner Purse/Yeti Bingo.\n$30-$45 packages for 11 games.\nWin Coach\, Kate Spade or Michael Kors and Yeti.  Choose purse\, cash or both.\nMust Go coverall up to $1\,000.
URL:https://mnbarbingo.com/event/designer-purse-bingo-detour-19/
LOCATION:MN
CATEGORIES:Designer Handbag Bingo
ATTACH;FMTTYPE=image/png:https://mnbarbingo.com/wp-content/uploads/2024/04/handbag-bingo-e1716321226665.png
END:VEVENT
BEGIN:VEVENT
DTSTART;TZID=America/Chicago:20260329T130000
DTEND;TZID=America/Chicago:20260329T153000
DTSTAMP:20260421T032050
CREATED:20260319T122438Z
LAST-MODIFIED:20260319T122438Z
UID:12911-1774789200-1774798200@mnbarbingo.com
SUMMARY:Spring into Splitrocks Purse Bingo
DESCRIPTION:Banquet Room – Packet Sales start at 12pm\nBingo 1pm\n\n**Seating is limited to the first 200 people** First come\, first served!\n▪︎Single winners can choose from a Tier 1 OR Tier 2 purse▪︎Two winners will choose from Tier 2 purses▪︎Three or more winners will split a cash prize of $150▪︎13 games will be played▪︎$26 for the admission bingo packet (6 face) and additional sheets (3 face) for $4▪︎An admission bingo packet must be purchased to play bingo▪︎Must be 18 years or older to purchase an admission packet and to play. Seating is limited to bingo players only!\n**This event is NOT sponsored or promoted by Coach\, Michael Kors\, Kate Spade or any other designer**
URL:https://mnbarbingo.com/event/spring-into-splitrocks-purse-bingo/
LOCATION:Splitrocks\, 5063 273rd St\, Wyoming\, MN\, 55092\, United States
CATEGORIES:Designer Handbag Bingo
END:VEVENT
BEGIN:VEVENT
DTSTART;TZID=America/Chicago:20260322T140000
DTEND;TZID=America/Chicago:20260322T160000
DTSTAMP:20260421T032050
CREATED:20240919T025959Z
LAST-MODIFIED:20260304T031227Z
UID:9677-1774188000-1774195200@mnbarbingo.com
SUMMARY:Designer Purse Bingo at the Crystal VFW
DESCRIPTION:Doors open at 8am \nBingo starts 2pm \nRESERVATIONS REQUIRED \n\nPlease call: 763-533-0567\n\nPackets are $24 for all 20 games including $1000 coverall. \n 
URL:https://mnbarbingo.com/event/vfw494-designer-purse-bingo/
LOCATION:Crystal VFW\, 5222 Bass Lake RD\, Crystal\, MN\, 55429\, United States
CATEGORIES:Designer Handbag Bingo
ATTACH;FMTTYPE=image/jpeg:https://mnbarbingo.com/wp-content/uploads/2024/09/Crystal494.jpeg
END:VEVENT
BEGIN:VEVENT
DTSTART;TZID=America/Chicago:20260228T140000
DTEND;TZID=America/Chicago:20260228T160000
DTSTAMP:20260421T032050
CREATED:20250902T205547Z
LAST-MODIFIED:20260206T023522Z
UID:11233-1772287200-1772294400@mnbarbingo.com
SUMMARY:Coach Purse Bingo - Jersey's
DESCRIPTION:Last Saturday Every Month\n\nBingo starts at 2pm\n$20 packages\n8 games
URL:https://mnbarbingo.com/event/coach-purse-bingo-jerseys/
LOCATION:Jersey’s Bar & Grill\, 6449 Concord Blvd\, Inver Grove Heights\, MN\, 55076\, United States
CATEGORIES:Designer Handbag Bingo
ATTACH;FMTTYPE=image/png:https://mnbarbingo.com/wp-content/uploads/2024/04/handbag-bingo-e1716321226665.png
END:VEVENT
BEGIN:VEVENT
DTSTART;TZID=America/Chicago:20260216T183000
DTEND;TZID=America/Chicago:20260216T203000
DTSTAMP:20260421T032050
CREATED:20260206T024216Z
LAST-MODIFIED:20260206T024216Z
UID:12393-1771266600-1771273800@mnbarbingo.com
SUMMARY:Coach Purse Bingo at Little Village Pub
DESCRIPTION:Every Monday except the 3rd Monday of each month. \n6:30pm Start
URL:https://mnbarbingo.com/event/coach-purse-bingo-littlevillagepub/
LOCATION:Little Village Pub – White Bear Lake\, 2670 Co Rd E East\, White Bear Lake\, 55110\, United States
CATEGORIES:Designer Handbag Bingo
ATTACH;FMTTYPE=image/png:https://mnbarbingo.com/wp-content/uploads/2024/04/handbag-bingo-e1716321226665.png
END:VEVENT
BEGIN:VEVENT
DTSTART;TZID=America/Chicago:20260215T140000
DTEND;TZID=America/Chicago:20260215T160000
DTSTAMP:20260421T032050
CREATED:20260125T202537Z
LAST-MODIFIED:20260125T202537Z
UID:11915-1771164000-1771171200@mnbarbingo.com
SUMMARY:Galentine's Day Purse Bingo
DESCRIPTION:Saturday 2pm\n$40 Bingo packets
URL:https://mnbarbingo.com/event/galentines-day-purse-bingo/
LOCATION:Hackamore Brewing\, 8651 Lake Dr E\, Chanhassen\, MN\, 55317\, United States
CATEGORIES:Designer Handbag Bingo
ATTACH;FMTTYPE=image/png:https://mnbarbingo.com/wp-content/uploads/2024/04/handbag-bingo-e1716321226665.png
END:VEVENT
BEGIN:VEVENT
DTSTART;TZID=America/Chicago:20260212T190000
DTEND;TZID=America/Chicago:20260212T210000
DTSTAMP:20260421T032050
CREATED:20260125T203745Z
LAST-MODIFIED:20260125T203745Z
UID:11918-1770922800-1770930000@mnbarbingo.com
SUMMARY:Designer Handbag Bingo
DESCRIPTION:Doors 6:15pm. Bingo 7pm\n$40\nWin Designer Handbags
URL:https://mnbarbingo.com/event/designer-handbag-bingo/
LOCATION:Winehaven Winery\, 10020 Deer Garden Ln\, Chisago City\, MN\, 55013\, United States
CATEGORIES:Designer Handbag Bingo
ATTACH;FMTTYPE=image/png:https://mnbarbingo.com/wp-content/uploads/2024/04/handbag-bingo-e1716321226665.png
END:VEVENT
BEGIN:VEVENT
DTSTART;TZID=America/Chicago:20260212T183000
DTEND;TZID=America/Chicago:20260212T203000
DTSTAMP:20260421T032050
CREATED:20240522T063635Z
LAST-MODIFIED:20260113T224106Z
UID:9220-1770921000-1770928200@mnbarbingo.com
SUMMARY:Designer Handbag Bingo - Mad Jack's Sports Cafe
DESCRIPTION:Every 2nd Thursday of the Month\n\nBegins 6:30pm\n$50-60 packages for 11 games\nWin Coach\, Kate Spade or Michael Kors designer handbags.\nYeti Coolers and other outdoor gear.\nChoose purse\, cash or both\n$2000 Must-Go Coverall
URL:https://mnbarbingo.com/event/designer-handbag-bingo-mad-jacks-sports-cafe/
LOCATION:Mad Jack’s Sports Cafe – Brooklyn Park\, 8078 Brooklyn Blvd\, Brooklyn Park\, MN\, 55445\, United States
CATEGORIES:Designer Handbag Bingo
ATTACH;FMTTYPE=image/png:https://mnbarbingo.com/wp-content/uploads/2024/04/handbag-bingo-e1716321226665.png
END:VEVENT
BEGIN:VEVENT
DTSTART;TZID=America/Chicago:20260210T190000
DTEND;TZID=America/Chicago:20260210T210000
DTSTAMP:20260421T032050
CREATED:20240614T004432Z
LAST-MODIFIED:20260113T220431Z
UID:9331-1770750000-1770757200@mnbarbingo.com
SUMMARY:Valentine's Designer Handbag and Yeti Bingo
DESCRIPTION:Bingo starts at 7pm. Packet sales 6:30pm\n10 Games\n$30 packets\n$250 merchandise value for winner or if split $150 for each person\nReservations accepted\, but not required. Call Casper’s to reserve a table.\n\n 
URL:https://mnbarbingo.com/event/valentines-bingo-caspers/
LOCATION:Caspers Cherokee\, 4625 Nicols Rd\, Eagan\, MN\, 55122\, United States
CATEGORIES:Designer Handbag Bingo
ATTACH;FMTTYPE=image/png:https://mnbarbingo.com/wp-content/uploads/2024/04/handbag-bingo-e1716321226665.png
END:VEVENT
BEGIN:VEVENT
DTSTART;TZID=America/Chicago:20260201T160000
DTEND;TZID=America/Chicago:20260201T180000
DTSTAMP:20260421T032050
CREATED:20250314T233556Z
LAST-MODIFIED:20260113T223924Z
UID:10361-1769961600-1769968800@mnbarbingo.com
SUMMARY:Designer Purse / Yeti Bingo - Eagle's Nest
DESCRIPTION:Every 1st Sunday of the month!\n\nBingo starts at 4pm.\nDesigner Purse/Yeti Bingo.\n$30-$45 packages
URL:https://mnbarbingo.com/event/designer-purse-yeti-bingo-eagles-nest/
LOCATION:Broadway Pizza / Eagle’s Nest\, 4106 Lakeland Ave N\, Minneapolis\, MN\, 55422\, United States
CATEGORIES:Designer Handbag Bingo
ATTACH;FMTTYPE=image/png:https://mnbarbingo.com/wp-content/uploads/2024/04/handbag-bingo-e1716321226665.png
END:VEVENT
BEGIN:VEVENT
DTSTART;TZID=America/Chicago:20260115T190000
DTEND;TZID=America/Chicago:20260115T210000
DTSTAMP:20260421T032050
CREATED:20240522T064259Z
LAST-MODIFIED:20251220T153246Z
UID:9224-1768503600-1768510800@mnbarbingo.com
SUMMARY:Designer Purse / Yeti Bingo - Osseo American Legion
DESCRIPTION:Every 3rd Thursday of the Month\n\nBegins 7pm\n$30 – $40 packages for 11 games\nDESIGNER HANDBAGS and YETI Bingo!\nMust Go Coverall up to $1000\nPaper and Electronic options
URL:https://mnbarbingo.com/event/designer-purse-yeti-bingo-osseo-american-legion/
LOCATION:American Legion 172 – Osseo\, 260 4th Ave SE\, Osseo\, MN\, 55369\, United States
CATEGORIES:Designer Handbag Bingo
ATTACH;FMTTYPE=image/png:https://mnbarbingo.com/wp-content/uploads/2024/04/handbag-bingo-e1716321226665.png
END:VEVENT
BEGIN:VEVENT
DTSTART;TZID=America/Chicago:20251120T190000
DTEND;TZID=America/Chicago:20251120T213000
DTSTAMP:20260421T032050
CREATED:20241114T032514Z
LAST-MODIFIED:20251029T013232Z
UID:9887-1763665200-1763674200@mnbarbingo.com
SUMMARY:Purse and Power Tool Bingo
DESCRIPTION:WIN BIG with luxury prizes at Bald Man Brewing\, hosted by the Eagan Lions Club. \nPacket – 6 Face Card of all 8 Games = $24. Additional packet to increase your odds of winning – 3 Face Card of all 8 Games = $10 \nMore Fun – we will play 3 Ball Call for a chance to win BIG Cash Prizes = $200/$400/$500! \nIn addition to Bingo we will have raffles for Bald Man merchandise\, Eagan Lion merchandise\, designer wallets and more. Receive 1 raffle ticket with the purchase of the $24 packet. Receive additional raffle tickets for every $20 spent on 3 Ball Call. \nBring your friends and family for a night of fun\, fantastic prizes and community spirit! 100% of the proceeds from this event are donated to Eagan Lion’s causes. Check out our website at www.eaganlions.com to see organizations that we support. Contact us to join our fun team and become a member of the Eagan Lions.
URL:https://mnbarbingo.com/event/purse-and-power-tool-bingo/
LOCATION:Bald Man Brewing\, 2020 Silver Bell Rd #28\, Eagan\, MN\, 55122\, United States
CATEGORIES:Designer Handbag Bingo
ATTACH;FMTTYPE=image/png:https://mnbarbingo.com/wp-content/uploads/2024/11/baldmanbingoevent.png
END:VEVENT
BEGIN:VEVENT
DTSTART;TZID=America/Chicago:20251119T183000
DTEND;TZID=America/Chicago:20251119T203000
DTSTAMP:20260421T032050
CREATED:20240522T073547Z
LAST-MODIFIED:20251104T213550Z
UID:9256-1763577000-1763584200@mnbarbingo.com
SUMMARY:Designer Handbag Bingo - Adagio's Pizza Factory
DESCRIPTION:Every 3rd Wednesday of the month\n\nBingo starts at 6:30pm.\nReservations accepted\, but not required.\n\n651-631-8430
URL:https://mnbarbingo.com/event/designerhandbagbingo-adagios/
LOCATION:Adagio’s Pizza Factory – New Brighton\, 2052 Silver Lake Rd NW\, New Brighton\, MN\, 55112\, United States
CATEGORIES:Designer Handbag Bingo
ATTACH;FMTTYPE=image/png:https://mnbarbingo.com/wp-content/uploads/2024/04/handbag-bingo-e1716321226665.png
END:VEVENT
BEGIN:VEVENT
DTSTART;TZID=America/Chicago:20251108T180000
DTEND;TZID=America/Chicago:20251108T200000
DTSTAMP:20260421T032050
CREATED:20250902T204948Z
LAST-MODIFIED:20250902T204948Z
UID:11230-1762624800-1762632000@mnbarbingo.com
SUMMARY:Designer Purse Bingo - Blue Moon Bar
DESCRIPTION:Bingo starts at 6pm\n10 games\n$30
URL:https://mnbarbingo.com/event/designer-purse-bingo-blue-moon-bar/
LOCATION:Blue Moon Bar\, 300 S Webster St\, Kasota\, MN\, 56050\, United States
CATEGORIES:Designer Handbag Bingo
ATTACH;FMTTYPE=image/png:https://mnbarbingo.com/wp-content/uploads/2024/04/handbag-bingo-e1716321226665.png
END:VEVENT
BEGIN:VEVENT
DTSTART;TZID=America/Chicago:20251108T140000
DTEND;TZID=America/Chicago:20251108T170000
DTSTAMP:20260421T032050
CREATED:20251104T041353Z
LAST-MODIFIED:20251104T041353Z
UID:11537-1762610400-1762621200@mnbarbingo.com
SUMMARY:Rusty Spoke Purse Bingo
DESCRIPTION:Doors open at 8am\nBingo starts at 2pm\nOver $1200 in prizes
URL:https://mnbarbingo.com/event/rusty-spoke-purse-bingo/
LOCATION:Rusty Spoke\, 329 Main St W\, New Prague\, MN\, 56071\, United States
CATEGORIES:Designer Handbag Bingo
ATTACH;FMTTYPE=image/jpeg:https://mnbarbingo.com/wp-content/uploads/2025/11/rusty-spoke.jpg
END:VEVENT
BEGIN:VEVENT
DTSTART;TZID=America/Chicago:20251005T130000
DTEND;TZID=America/Chicago:20251005T160000
DTSTAMP:20260421T032050
CREATED:20250902T203332Z
LAST-MODIFIED:20250902T203332Z
UID:11224-1759669200-1759680000@mnbarbingo.com
SUMMARY:Purse Bingo Brainerd
DESCRIPTION:$45 early registration\n$55 at door\nDoors open 11am\nBingo 1pm
URL:https://mnbarbingo.com/event/purse-bingo-brainerd/
LOCATION:FOE Brainerd\, 123 Front St\, Brainerd\, MN\, 56401\, United States
CATEGORIES:Designer Handbag Bingo
ATTACH;FMTTYPE=image/png:https://mnbarbingo.com/wp-content/uploads/2024/04/handbag-bingo-e1716321226665.png
END:VEVENT
BEGIN:VEVENT
DTSTART;TZID=America/Chicago:20251004T120000
DTEND;TZID=America/Chicago:20251004T143000
DTSTAMP:20260421T032050
CREATED:20250913T020758Z
LAST-MODIFIED:20250913T020758Z
UID:11287-1759579200-1759588200@mnbarbingo.com
SUMMARY:Designer Purse Bingo at Lucky's 13
DESCRIPTION:10 Games\n$30\nDesigner Purse prizes or cash option
URL:https://mnbarbingo.com/event/designer-purse-bingo-at-luckys-13/
LOCATION:Lucky’s 13 Bloomington\, 1800 American Blvd W\, Bloomington\, MN\, 55431\, United States
CATEGORIES:Designer Handbag Bingo
ATTACH;FMTTYPE=image/png:https://mnbarbingo.com/wp-content/uploads/2024/04/handbag-bingo-e1716321226665.png
END:VEVENT
BEGIN:VEVENT
DTSTART;TZID=America/Chicago:20250925T190000
DTEND;TZID=America/Chicago:20250925T210000
DTSTAMP:20260421T032050
CREATED:20250624T024431Z
LAST-MODIFIED:20250624T024431Z
UID:10818-1758826800-1758834000@mnbarbingo.com
SUMMARY:EP Chamber Purse Bingo
DESCRIPTION:Bingo starts 7pm\n$25 for 10 games (cash only)\nWin purses\nNo reservations
URL:https://mnbarbingo.com/event/ep-chamber-purse-bingo/
LOCATION:Fat Pants Brewing Co\, 8335 Crystal View Rd\, Eden Prairie\, MN\, 55344\, United States
CATEGORIES:Designer Handbag Bingo
ATTACH;FMTTYPE=image/png:https://mnbarbingo.com/wp-content/uploads/2024/04/handbag-bingo-e1716321226665.png
END:VEVENT
BEGIN:VEVENT
DTSTART;TZID=America/Chicago:20250924T190000
DTEND;TZID=America/Chicago:20250924T210000
DTSTAMP:20260421T032050
CREATED:20250902T204245Z
LAST-MODIFIED:20250902T204245Z
UID:11227-1758740400-1758747600@mnbarbingo.com
SUMMARY:Purse Bingo - Clive's Burnsville
DESCRIPTION:Every 4th Wednesday of the month!\n\nReservations accepted by calling bar.\n7pm start
URL:https://mnbarbingo.com/event/purse-bingo-clives-burnsville/
LOCATION:Clive’s Roadhouse – Burnsville\, 13050 Aldrich Ave S\, Burnsville\, MN\, 55337\, United States
CATEGORIES:Designer Handbag Bingo
ATTACH;FMTTYPE=image/png:https://mnbarbingo.com/wp-content/uploads/2024/04/handbag-bingo-e1716321226665.png
END:VEVENT
BEGIN:VEVENT
DTSTART;TZID=America/Chicago:20250916T193000
DTEND;TZID=America/Chicago:20250916T210000
DTSTAMP:20260421T032050
CREATED:20240522T062731Z
LAST-MODIFIED:20250902T203731Z
UID:9211-1758051000-1758056400@mnbarbingo.com
SUMMARY:Designer Handbag Bingo - Clive's Roadhouse
DESCRIPTION:Every 3rd Tuesday of the month\n  \n\nBingo starts at 7:30pm\nCall for reservations: (763-951-3406)
URL:https://mnbarbingo.com/event/designer-handbag-bingo-clives-roadhouse/
LOCATION:Clive’s Roadhouse – Blaine\, 10400 Baltimore St NE #200\, Blaine\, MN\, 55449\, United States
CATEGORIES:Designer Handbag Bingo
ATTACH;FMTTYPE=image/png:https://mnbarbingo.com/wp-content/uploads/2024/04/handbag-bingo-e1716321226665.png
END:VEVENT
BEGIN:VEVENT
DTSTART;TZID=America/Chicago:20250907T183000
DTEND;TZID=America/Chicago:20250907T200000
DTSTAMP:20260421T032050
CREATED:20250830T205552Z
LAST-MODIFIED:20250830T205552Z
UID:11199-1757269800-1757275200@mnbarbingo.com
SUMMARY:Birdi Golf Purse Bingo
DESCRIPTION:1st and 3rd Sundays of the month\n\nNo reservations required\nWin designer bags
URL:https://mnbarbingo.com/event/birdi-golf-purse-bingo/
LOCATION:Birdi Golf\, 1750 WEIR DR\, WOODBURY\, MN\, 55125\, United States
CATEGORIES:Designer Handbag Bingo
ATTACH;FMTTYPE=image/png:https://mnbarbingo.com/wp-content/uploads/2024/04/handbag-bingo-e1716321226665.png
END:VEVENT
BEGIN:VEVENT
DTSTART;TZID=America/Chicago:20250902T183000
DTEND;TZID=America/Chicago:20250902T203000
DTSTAMP:20260421T032050
CREATED:20240521T233437Z
LAST-MODIFIED:20250830T202605Z
UID:9192-1756837800-1756845000@mnbarbingo.com
SUMMARY:Designer Handbag Bingo - Manitou Bar & Kitchen
DESCRIPTION:Every 1st & 3rd Tuesday of the month\n\nBingo states at 6:30pm\n8 Games\nPurse & Cash prizes\nQuestions? Contact: jenn@manitoumn.com\nReservations Accepted\, but not required: www.manitougrill.com
URL:https://mnbarbingo.com/event/designer-handbag-bingo-manitou-bar-kitchen/
LOCATION:Manitou Bar & Kitchen – White Bear Lake\, 2171 4th St\, White Bear Lake\, MN\, 55110\, United States
CATEGORIES:Designer Handbag Bingo
ATTACH;FMTTYPE=image/png:https://mnbarbingo.com/wp-content/uploads/2023/07/manitou-.png
END:VEVENT
BEGIN:VEVENT
DTSTART;TZID=America/Chicago:20250807T183000
DTEND;TZID=America/Chicago:20250807T200000
DTSTAMP:20260421T032050
CREATED:20240522T005241Z
LAST-MODIFIED:20250714T012144Z
UID:9199-1754591400-1754596800@mnbarbingo.com
SUMMARY:Designer Handbag Bingo - Lumberyard Pub
DESCRIPTION:$20 for 10 games\nBingo starts at 6:30pm
URL:https://mnbarbingo.com/event/designer-handbag-bingo-lumberyard-pub/
LOCATION:Lumberyard Pub – Afton\, 3121 St Croix Trail S\, Afton\, MN\, 55001\, United States
CATEGORIES:Designer Handbag Bingo
ATTACH;FMTTYPE=image/png:https://mnbarbingo.com/wp-content/uploads/2024/04/handbag-bingo-e1716321226665.png
END:VEVENT
BEGIN:VEVENT
DTSTART;TZID=America/Chicago:20250715T183000
DTEND;TZID=America/Chicago:20250715T210000
DTSTAMP:20260421T032050
CREATED:20250623T033026Z
LAST-MODIFIED:20250623T033026Z
UID:10804-1752604200-1752613200@mnbarbingo.com
SUMMARY:Purse / Yeti Bingo Willy McCoys
DESCRIPTION:Bingo starts at 6:30pm\nStep-Down Coverall starting at $1000 at 56 #’s or less\n$25 packets. Additional packets at $5 each\n3rd Tuesday every month 
URL:https://mnbarbingo.com/event/purse-yeti-bingo-willy-mccoys/
LOCATION:Willy McCoys Champlin\, 12450 Business Park Blvd N\, Champlin\, MN\, 55316\, United States
CATEGORIES:Designer Handbag Bingo
ATTACH;FMTTYPE=image/png:https://mnbarbingo.com/wp-content/uploads/2024/04/handbag-bingo-e1716321226665.png
END:VEVENT
BEGIN:VEVENT
DTSTART;TZID=America/Chicago:20250715T180000
DTEND;TZID=America/Chicago:20250715T200000
DTSTAMP:20260421T032050
CREATED:20250714T011912Z
LAST-MODIFIED:20250714T011912Z
UID:10958-1752602400-1752609600@mnbarbingo.com
SUMMARY:Designer Purse Bingo at Vic's
DESCRIPTION:Tickets for the event $20 and $40 for a bingo packet.\n10 games
URL:https://mnbarbingo.com/event/designer-purse-bingo-at-vics/
LOCATION:Vic’s Bar & Grill\, 1608 Main Ave SE\, Moorhead\, MN\, 56560\, United States
CATEGORIES:Designer Handbag Bingo
ATTACH;FMTTYPE=image/png:https://mnbarbingo.com/wp-content/uploads/2024/04/handbag-bingo-e1716321226665.png
END:VEVENT
BEGIN:VEVENT
DTSTART;TZID=America/Chicago:20250608T153000
DTEND;TZID=America/Chicago:20250608T173000
DTSTAMP:20260421T032050
CREATED:20240522T072017Z
LAST-MODIFIED:20250531T180632Z
UID:9241-1749396600-1749403800@mnbarbingo.com
SUMMARY:Designer Purse Bingo - Doghouse Bar & Grill
DESCRIPTION:Every 2nd\, 4th and 5th Sunday of the month\n\nBingo starts at 3:30pm
URL:https://mnbarbingo.com/event/designer-purse-bingo-doghouse-bar-grill/
LOCATION:Doghouse Bar & Grill\, 2029 Woodlynn Ave\, St Paul\, MN\, 55109\, United States
CATEGORIES:Designer Handbag Bingo
ATTACH;FMTTYPE=image/png:https://mnbarbingo.com/wp-content/uploads/2024/04/handbag-bingo-e1716321226665.png
END:VEVENT
BEGIN:VEVENT
DTSTART;TZID=America/Chicago:20250518T120000
DTEND;TZID=America/Chicago:20250518T150000
DTSTAMP:20260421T032050
CREATED:20250430T024345Z
LAST-MODIFIED:20250430T024345Z
UID:10552-1747569600-1747580400@mnbarbingo.com
SUMMARY:Purse Bingo at Patty Wagon
DESCRIPTION:Restaurant opens at 8am. Ticket sales 11am. Bingo starts at 12pm.\nWin purses and cash!\n$15 Bottomless Mimosas.
URL:https://mnbarbingo.com/event/purse-bingo-at-patty-wagon/
LOCATION:Patty Wagon\, 6042 Nicollet AVE\, Minneapolis\, MN\, 55419\, United States
CATEGORIES:Designer Handbag Bingo
ATTACH;FMTTYPE=image/jpeg:https://mnbarbingo.com/wp-content/uploads/2025/04/pattywagon-purse-bingo.jpeg
END:VEVENT
BEGIN:VEVENT
DTSTART;TZID=America/Chicago:20250511T140000
DTEND;TZID=America/Chicago:20250511T160000
DTSTAMP:20260421T032050
CREATED:20250430T025306Z
LAST-MODIFIED:20250430T025306Z
UID:10556-1746972000-1746979200@mnbarbingo.com
SUMMARY:Mother's Day Designer Purse Bingo
DESCRIPTION:2pm\nPackages are $30 for ten games. \nEach player will receive six faces per game. \nWinner of each game will have a choice of a designer purse. \nWe will be mixing in some Stanley and Yeti’s for some extra fun. \nBrunch and drink specials
URL:https://mnbarbingo.com/event/mothers-day-designer-purse-bingo/
LOCATION:Trove Brewing\, 1719 COUNTY RD 42 W\, BURNSVILLE\, MN\, 55306\, United States
CATEGORIES:Designer Handbag Bingo
ATTACH;FMTTYPE=image/png:https://mnbarbingo.com/wp-content/uploads/2024/04/handbag-bingo-e1716321226665.png
END:VEVENT
BEGIN:VEVENT
DTSTART;TZID=America/Chicago:20250427T180000
DTEND;TZID=America/Chicago:20250427T200000
DTSTAMP:20260421T032050
CREATED:20250328T125338Z
LAST-MODIFIED:20250328T125338Z
UID:10410-1745776800-1745784000@mnbarbingo.com
SUMMARY:Designer Purse Bingo - Badger Hill Brewing
DESCRIPTION:$40 packets (cash only)\n10 rounds
URL:https://mnbarbingo.com/event/designer-purse-bingo-badger-hill-brewing/
LOCATION:Badger Hill Brewing\, 2805 Winners Circle Drive\, Shakopee\, MN\, 55379\, United States
CATEGORIES:Designer Handbag Bingo
ATTACH;FMTTYPE=image/png:https://mnbarbingo.com/wp-content/uploads/2024/04/handbag-bingo-e1716321226665.png
END:VEVENT
END:VCALENDAR