BEGIN:VCALENDAR
VERSION:2.0
PRODID:-//MN BAR BINGO - ECPv6.15.20//NONSGML v1.0//EN
CALSCALE:GREGORIAN
METHOD:PUBLISH
X-ORIGINAL-URL:https://mnbarbingo.com
X-WR-CALDESC:Events for MN BAR BINGO
REFRESH-INTERVAL;VALUE=DURATION:PT1H
X-Robots-Tag:noindex
X-PUBLISHED-TTL:PT1H
BEGIN:VTIMEZONE
TZID:America/Chicago
BEGIN:DAYLIGHT
TZOFFSETFROM:-0600
TZOFFSETTO:-0500
TZNAME:CDT
DTSTART:20240310T080000
END:DAYLIGHT
BEGIN:STANDARD
TZOFFSETFROM:-0500
TZOFFSETTO:-0600
TZNAME:CST
DTSTART:20241103T070000
END:STANDARD
BEGIN:DAYLIGHT
TZOFFSETFROM:-0600
TZOFFSETTO:-0500
TZNAME:CDT
DTSTART:20250309T080000
END:DAYLIGHT
BEGIN:STANDARD
TZOFFSETFROM:-0500
TZOFFSETTO:-0600
TZNAME:CST
DTSTART:20251102T070000
END:STANDARD
BEGIN:DAYLIGHT
TZOFFSETFROM:-0600
TZOFFSETTO:-0500
TZNAME:CDT
DTSTART:20260308T080000
END:DAYLIGHT
BEGIN:STANDARD
TZOFFSETFROM:-0500
TZOFFSETTO:-0600
TZNAME:CST
DTSTART:20261101T070000
END:STANDARD
END:VTIMEZONE
BEGIN:VEVENT
DTSTART;TZID=America/Chicago:20251213T130000
DTEND;TZID=America/Chicago:20251213T150000
DTSTAMP:20260419T072231
CREATED:20251212T003235Z
LAST-MODIFIED:20251212T003309Z
UID:11693-1765630800-1765638000@mnbarbingo.com
SUMMARY:Prime Rib Bingo
DESCRIPTION:Doors open 11am\, 1pm bingo start\nPlay for a chance to win a HUGE Prime Rib Roast that will feed 8-10 people for your Christmas dinner.
URL:https://mnbarbingo.com/event/prime-rib-bingo/
LOCATION:Stone Creek Golf\, 13050 65th St NE\, Foley\, MN\, 56329\, United States
CATEGORIES:Mega Bingo
ATTACH;FMTTYPE=image/jpeg:https://mnbarbingo.com/wp-content/uploads/2025/12/primeribbingo-stonecreek.jpg
END:VEVENT
END:VCALENDAR