BEGIN:VCALENDAR
VERSION:2.0
PRODID:-//MN BAR BINGO - ECPv6.15.20//NONSGML v1.0//EN
CALSCALE:GREGORIAN
METHOD:PUBLISH
X-ORIGINAL-URL:https://mnbarbingo.com
X-WR-CALDESC:Events for MN BAR BINGO
REFRESH-INTERVAL;VALUE=DURATION:PT1H
X-Robots-Tag:noindex
X-PUBLISHED-TTL:PT1H
BEGIN:VTIMEZONE
TZID:America/Chicago
BEGIN:DAYLIGHT
TZOFFSETFROM:-0600
TZOFFSETTO:-0500
TZNAME:CDT
DTSTART:20240310T080000
END:DAYLIGHT
BEGIN:STANDARD
TZOFFSETFROM:-0500
TZOFFSETTO:-0600
TZNAME:CST
DTSTART:20241103T070000
END:STANDARD
BEGIN:DAYLIGHT
TZOFFSETFROM:-0600
TZOFFSETTO:-0500
TZNAME:CDT
DTSTART:20250309T080000
END:DAYLIGHT
BEGIN:STANDARD
TZOFFSETFROM:-0500
TZOFFSETTO:-0600
TZNAME:CST
DTSTART:20251102T070000
END:STANDARD
BEGIN:DAYLIGHT
TZOFFSETFROM:-0600
TZOFFSETTO:-0500
TZNAME:CDT
DTSTART:20260308T080000
END:DAYLIGHT
BEGIN:STANDARD
TZOFFSETFROM:-0500
TZOFFSETTO:-0600
TZNAME:CST
DTSTART:20261101T070000
END:STANDARD
END:VTIMEZONE
BEGIN:VEVENT
DTSTART;TZID=America/Chicago:20251127T183000
DTEND;TZID=America/Chicago:20251127T203000
DTSTAMP:20260419T085017
CREATED:20251126T022751Z
LAST-MODIFIED:20251126T023011Z
UID:11630-1764268200-1764275400@mnbarbingo.com
SUMMARY:Thanksgiving Day Bingo - White Bear Lake
DESCRIPTION:2 $1000 Coveralls!\n6:30pm start
URL:https://mnbarbingo.com/event/thanksgiving-day-bingo-white-bear-lake/
LOCATION:Little Village Pub\, 2670 Co Rd E East\, White Bear Lake\, MN\, 55110\, United States
CATEGORIES:Mega Bingo
ATTACH;FMTTYPE=image/png:https://mnbarbingo.com/wp-content/uploads/2024/08/MNBB-Home-Special-Events-e1731554848187.png
END:VEVENT
BEGIN:VEVENT
DTSTART;TZID=America/Chicago:20251127T183000
DTEND;TZID=America/Chicago:20251127T203000
DTSTAMP:20260419T085017
CREATED:20251126T023538Z
LAST-MODIFIED:20251126T023538Z
UID:11636-1764268200-1764275400@mnbarbingo.com
SUMMARY:Thanksgiving Day Bingo - Coon Rapids
DESCRIPTION:Bar opens 5pm\nBingo starts 6:30pm\nAll Bingo payouts $150
URL:https://mnbarbingo.com/event/thanksgiving-day-bingo-coon-rapids/
LOCATION:Shortstop Coon Rapids\, 421 Northdale Blvd NW\, Coon Rapids\, MN\, 55448\, United States
CATEGORIES:Mega Bingo
ATTACH;FMTTYPE=image/png:https://mnbarbingo.com/wp-content/uploads/2024/08/MNBB-Home-Special-Events-e1731554848187.png
END:VEVENT
END:VCALENDAR