BEGIN:VCALENDAR
VERSION:2.0
PRODID:-//MN BAR BINGO - ECPv6.15.20//NONSGML v1.0//EN
CALSCALE:GREGORIAN
METHOD:PUBLISH
X-ORIGINAL-URL:https://mnbarbingo.com
X-WR-CALDESC:Events for MN BAR BINGO
REFRESH-INTERVAL;VALUE=DURATION:PT1H
X-Robots-Tag:noindex
X-PUBLISHED-TTL:PT1H
BEGIN:VTIMEZONE
TZID:America/Chicago
BEGIN:DAYLIGHT
TZOFFSETFROM:-0600
TZOFFSETTO:-0500
TZNAME:CDT
DTSTART:20240310T080000
END:DAYLIGHT
BEGIN:STANDARD
TZOFFSETFROM:-0500
TZOFFSETTO:-0600
TZNAME:CST
DTSTART:20241103T070000
END:STANDARD
BEGIN:DAYLIGHT
TZOFFSETFROM:-0600
TZOFFSETTO:-0500
TZNAME:CDT
DTSTART:20250309T080000
END:DAYLIGHT
BEGIN:STANDARD
TZOFFSETFROM:-0500
TZOFFSETTO:-0600
TZNAME:CST
DTSTART:20251102T070000
END:STANDARD
BEGIN:DAYLIGHT
TZOFFSETFROM:-0600
TZOFFSETTO:-0500
TZNAME:CDT
DTSTART:20260308T080000
END:DAYLIGHT
BEGIN:STANDARD
TZOFFSETFROM:-0500
TZOFFSETTO:-0600
TZNAME:CST
DTSTART:20261101T070000
END:STANDARD
END:VTIMEZONE
BEGIN:VEVENT
DTSTART;TZID=America/Chicago:20250426T130000
DTEND;TZID=America/Chicago:20250426T153000
DTSTAMP:20260421T205050
CREATED:20250418T024213Z
LAST-MODIFIED:20250418T024425Z
UID:10501-1745672400-1745681400@mnbarbingo.com
SUMMARY:Rib Cook-Off Mega Bingo
DESCRIPTION:3 – $500 Coveralls\n$150 Guaranteed Payouts\n$20 packets\nRaffles throughout\nDoors open at 10am
URL:https://mnbarbingo.com/event/rib-cook-off-mega-bingo/
LOCATION:Tasty Pizza Bar & Bowl\, 3085 Bridge St NW\, St Francis\, MN\, 55070\, United States
CATEGORIES:Mega Bingo
ATTACH;FMTTYPE=image/png:https://mnbarbingo.com/wp-content/uploads/2025/04/cookoff-megabingo.png
END:VEVENT
END:VCALENDAR